BEGIN:VCALENDAR
VERSION:2.0
PRODID:Events Booking
BEGIN:VEVENT
UID:69e98fb459330
SUMMARY:Ecobrasil 2025
DESCRIPTION:• GESTOR AMBIENTAL? Solicite um desconto especial para ecobra
 sil@portosenavios.com.br
 • Assinante PN - 10% adicional (faça login a
 ntes)
LOCATION:Rua Tonelero\, 338 - Copacabana\, Rio de Janeiro - RJ\, 22020-001\
 , Brasil
DTSTART:20250617T110000Z
DTEND:20250618T210000Z
DTSTAMP:20230222T164112Z
ORGANIZER;CN=Eventos Portos e Navios:MAILTO:ecobrasil@portosenavios.com.br
GEO:-22.968416;-43.189181
X-APPLE-STRUCTURED-LOCATION;VALUE=URI;X-ADDRESS=Rua Tonelero\, 338 - Copaca
 bana\, Rio de Janeiro - RJ\, 22020-001\, Brasil;X-APPLE-RADIUS=72;X-TITLE=
 Hotel Mirador:-22.968416;-43.189181
END:VEVENT
END:VCALENDAR